BEGIN:VCALENDAR
VERSION:2.0
PRODID:-//Branches of Wellness - ECPv6.15.17.1//NONSGML v1.0//EN
CALSCALE:GREGORIAN
METHOD:PUBLISH
X-WR-CALNAME:Branches of Wellness
X-ORIGINAL-URL:https://www.branchesofwellness.com
X-WR-CALDESC:Events for Branches of Wellness
REFRESH-INTERVAL;VALUE=DURATION:PT1H
X-Robots-Tag:noindex
X-PUBLISHED-TTL:PT1H
BEGIN:VTIMEZONE
TZID:UTC
BEGIN:STANDARD
TZOFFSETFROM:+0000
TZOFFSETTO:+0000
TZNAME:UTC
DTSTART:20250101T000000
END:STANDARD
END:VTIMEZONE
BEGIN:VEVENT
DTSTART;TZID=UTC:20260311T090000
DTEND;TZID=UTC:20260429T100000
DTSTAMP:20260421T083825
CREATED:20250412T165857Z
LAST-MODIFIED:20251229T210239Z
UID:4479-1773219600-1777456800@www.branchesofwellness.com
SUMMARY:Mindful Strength & Stretch with Brenda Swain
DESCRIPTION:Join experienced yoga and fitness instructor\, Brenda Swain\, for thisSPECIAL *8-WEEK* SERIES which will include mindful breathing\, stretching\, and strength training using small weights\, blocks\, resistance bands\, and more!\n\n**WEDNESDAYS IN-STUDIO at the Fairport Dance Academy ONLY: 9:00-10:00 AM\, March 11 – April 29!**\n\n**INVESTMENT: $112 if you register for the ENTIRE series****PRE-REGISTRATION/ PRE-PAYMENT REQUIRED!****Save 30% when you pre-register for the series!**\nCLICK HERE TO PURCHASE AND BE AUTOMATICALLY REGISTERED FOR EACH CLASS IN THE SERIES!**Payment required at time of registration. Need 3 to pre-register for class to run.\n**PLEASE BRING YOUR OWN PROPS IF POSSIBLE.****Also\, please bring water\, a small towel\, and CLEAN INDOOR SNEAKERS to each class.*\n\nThe 2018 Physical Activity Guidelines stress that exercise is a must as we grow older\, and the more we move\, the better we live.Come experience the benefits of strength training which include:•maintaining muscle•improving strength•protecting and improving bone health•maintaining and improving balance•maintaining and improving ability to perform activities of daily living•potentially reducing risk for Type 2 Diabetes\, hypertension\, heart disease\, excess weight gain\, anxiety\, depression\, and harmful falls
URL:https://www.branchesofwellness.com/event/mindful-strength-stretch-with-brenda-swain-7/
LOCATION:Fairport Dance Academy\, 1 Victoria Place\, suite 140\, Painesville\, OH\, 44077
ATTACH;FMTTYPE=image/jpeg:https://www.branchesofwellness.com/wp-content/uploads/2022/04/Newest-Mindful-Strength.jpeg
END:VEVENT
END:VCALENDAR